BEGIN:VCALENDAR
VERSION:2.0
PRODID:-//The WICT Network: Rocky Mountain - ECPv6.15.20//NONSGML v1.0//EN
CALSCALE:GREGORIAN
METHOD:PUBLISH
X-ORIGINAL-URL:https://wictrm.org
X-WR-CALDESC:Events for The WICT Network: Rocky Mountain
REFRESH-INTERVAL;VALUE=DURATION:PT1H
X-Robots-Tag:noindex
X-PUBLISHED-TTL:PT1H
BEGIN:VTIMEZONE
TZID:America/Denver
BEGIN:DAYLIGHT
TZOFFSETFROM:-0700
TZOFFSETTO:-0600
TZNAME:MDT
DTSTART:20240310T090000
END:DAYLIGHT
BEGIN:STANDARD
TZOFFSETFROM:-0600
TZOFFSETTO:-0700
TZNAME:MST
DTSTART:20241103T080000
END:STANDARD
BEGIN:DAYLIGHT
TZOFFSETFROM:-0700
TZOFFSETTO:-0600
TZNAME:MDT
DTSTART:20250309T090000
END:DAYLIGHT
BEGIN:STANDARD
TZOFFSETFROM:-0600
TZOFFSETTO:-0700
TZNAME:MST
DTSTART:20251102T080000
END:STANDARD
BEGIN:DAYLIGHT
TZOFFSETFROM:-0700
TZOFFSETTO:-0600
TZNAME:MDT
DTSTART:20260308T090000
END:DAYLIGHT
BEGIN:STANDARD
TZOFFSETFROM:-0600
TZOFFSETTO:-0700
TZNAME:MST
DTSTART:20261101T080000
END:STANDARD
END:VTIMEZONE
BEGIN:VEVENT
DTSTART;TZID=America/Denver:20251108T140000
DTEND;TZID=America/Denver:20251108T150000
DTSTAMP:20260424T115028
CREATED:20250812T232519Z
LAST-MODIFIED:20251106T001225Z
UID:10000046-1762610400-1762614000@wictrm.org
SUMMARY:Free Yoga Class with The River YOGA
DESCRIPTION:Join a FREE yoga class with The River YOGA in partnership with The WICT Network: Rocky Mountain!\nWe are offering a FREE Restorative Yoga class. Participants are asked to make a donation of any amount to the Second Wind Fund. Please arrive 15 minutes before class begins. \n  \n  \nDetails\nSaturday\, November 8\, 2025 from 2:00 to 3:00 pm MT. \nIn-person event at The River Sunnyside Yoga Studio\, 4055 Inca St Suite 100\, Denver\, CO 80211. \nFree for members and non-members. We will be asking for an optional donation to Second Wind Fund. \nPlease use the QR code below to donate to the Second Wind Fund (exists to help youth at risk for suicide access professional counseling services by removing financial and social barriers).
URL:https://wictrm.org/event/free-yoga-class/
LOCATION:The River Sunnyside Yoga Studio\, 4055 Inca St Suite 100\, Denver\, 80211\, United States
CATEGORIES:DEI
ATTACH;FMTTYPE=image/png:https://wictrm.org/wp-content/uploads/2025/08/2025-Corepower-Yoga-Web-Banner.png
END:VEVENT
END:VCALENDAR