BEGIN:VCALENDAR
VERSION:2.0
PRODID:-//The WICT Network: Rocky Mountain - ECPv6.15.20//NONSGML v1.0//EN
CALSCALE:GREGORIAN
METHOD:PUBLISH
X-ORIGINAL-URL:https://wictrm.org
X-WR-CALDESC:Events for The WICT Network: Rocky Mountain
REFRESH-INTERVAL;VALUE=DURATION:PT1H
X-Robots-Tag:noindex
X-PUBLISHED-TTL:PT1H
BEGIN:VTIMEZONE
TZID:America/Denver
BEGIN:DAYLIGHT
TZOFFSETFROM:-0700
TZOFFSETTO:-0600
TZNAME:MDT
DTSTART:20240310T090000
END:DAYLIGHT
BEGIN:STANDARD
TZOFFSETFROM:-0600
TZOFFSETTO:-0700
TZNAME:MST
DTSTART:20241103T080000
END:STANDARD
BEGIN:DAYLIGHT
TZOFFSETFROM:-0700
TZOFFSETTO:-0600
TZNAME:MDT
DTSTART:20250309T090000
END:DAYLIGHT
BEGIN:STANDARD
TZOFFSETFROM:-0600
TZOFFSETTO:-0700
TZNAME:MST
DTSTART:20251102T080000
END:STANDARD
BEGIN:DAYLIGHT
TZOFFSETFROM:-0700
TZOFFSETTO:-0600
TZNAME:MDT
DTSTART:20260308T090000
END:DAYLIGHT
BEGIN:STANDARD
TZOFFSETFROM:-0600
TZOFFSETTO:-0700
TZNAME:MST
DTSTART:20261101T080000
END:STANDARD
END:VTIMEZONE
BEGIN:VEVENT
DTSTART;TZID=America/Denver:20251018T150000
DTEND;TZID=America/Denver:20251018T170000
DTSTAMP:20260424T184028
CREATED:20250904T201338Z
LAST-MODIFIED:20250904T201612Z
UID:10000050-1760799600-1760806800@wictrm.org
SUMMARY:Sourdough Baking Class
DESCRIPTION:Sourdough Baking Class Team-building Event \nOctober 18\, 2025 @ 3:00 – 5:00 pm MST at The Park Lane Condos at 460 S. Marion St. Pkwy\, Denver\, CO 80209 \nFree \nTeam Building Never Tasted So Good! 🥖 \nJoin The WICT Network: Rocky Mountain for a fun\, hands-on sourdough-making workshop that’s all about connection\, collaboration and creativity! \nThis isn’t just a baking class — it’s a team-building experience designed to bring members together in a relaxed and welcoming environment. Whether you’re a seasoned baker or brand new to sourdough\, you’ll learn something new while getting to know your fellow members in a whole new way. \n👩‍🍳 Led by a local sourdough enthusiast\, this workshop will walk you through the basics of creating\, feeding and shaping your own sourdough starter — plus you’ll take home your very own loaf to bake!
URL:https://wictrm.org/event/sourdough_class/
LOCATION:The Park Lane Condos\, 460 S. Marion St. Pkwy\, Denver\, CO\, 80209\, United States
CATEGORIES:DEI
ATTACH;FMTTYPE=image/png:https://wictrm.org/wp-content/uploads/2025/09/Sourdough-Class-Website-banner-1.png
END:VEVENT
END:VCALENDAR