BEGIN:VCALENDAR
VERSION:2.0
PRODID:-//The WICT Network: Rocky Mountain - ECPv6.15.20//NONSGML v1.0//EN
CALSCALE:GREGORIAN
METHOD:PUBLISH
X-ORIGINAL-URL:https://wictrm.org
X-WR-CALDESC:Events for The WICT Network: Rocky Mountain
REFRESH-INTERVAL;VALUE=DURATION:PT1H
X-Robots-Tag:noindex
X-PUBLISHED-TTL:PT1H
BEGIN:VTIMEZONE
TZID:America/Denver
BEGIN:DAYLIGHT
TZOFFSETFROM:-0700
TZOFFSETTO:-0600
TZNAME:MDT
DTSTART:20240310T090000
END:DAYLIGHT
BEGIN:STANDARD
TZOFFSETFROM:-0600
TZOFFSETTO:-0700
TZNAME:MST
DTSTART:20241103T080000
END:STANDARD
BEGIN:DAYLIGHT
TZOFFSETFROM:-0700
TZOFFSETTO:-0600
TZNAME:MDT
DTSTART:20250309T090000
END:DAYLIGHT
BEGIN:STANDARD
TZOFFSETFROM:-0600
TZOFFSETTO:-0700
TZNAME:MST
DTSTART:20251102T080000
END:STANDARD
BEGIN:DAYLIGHT
TZOFFSETFROM:-0700
TZOFFSETTO:-0600
TZNAME:MDT
DTSTART:20260308T090000
END:DAYLIGHT
BEGIN:STANDARD
TZOFFSETFROM:-0600
TZOFFSETTO:-0700
TZNAME:MST
DTSTART:20261101T080000
END:STANDARD
END:VTIMEZONE
BEGIN:VEVENT
DTSTART;TZID=America/Denver:20251029T080000
DTEND;TZID=America/Denver:20251029T160000
DTSTAMP:20260424T171331
CREATED:20251014T172044Z
LAST-MODIFIED:20251016T215957Z
UID:10000052-1761724800-1761753600@wictrm.org
SUMMARY:Tech it Out
DESCRIPTION:2025 Tech It Out\nThe Tech Tapestry: Weaving the Future\nOctober 29\, 2025 @ 8:00 – 4:00 pm MT\nInfinity Park Event Center\n4400 E Kentucky Avenue Glendale\, CO 80246\nhttps://wictrm.org/programs/signature-events/tech-it-out/
URL:https://wictrm.org/event/tech-it-out/
CATEGORIES:Signature Event
END:VEVENT
END:VCALENDAR