BEGIN:VCALENDAR
VERSION:2.0
PRODID:-//The WICT Network: Rocky Mountain - ECPv6.15.20//NONSGML v1.0//EN
CALSCALE:GREGORIAN
METHOD:PUBLISH
X-ORIGINAL-URL:https://wictrm.org
X-WR-CALDESC:Events for The WICT Network: Rocky Mountain
REFRESH-INTERVAL;VALUE=DURATION:PT1H
X-Robots-Tag:noindex
X-PUBLISHED-TTL:PT1H
BEGIN:VTIMEZONE
TZID:America/Denver
BEGIN:DAYLIGHT
TZOFFSETFROM:-0700
TZOFFSETTO:-0600
TZNAME:MDT
DTSTART:20250309T090000
END:DAYLIGHT
BEGIN:STANDARD
TZOFFSETFROM:-0600
TZOFFSETTO:-0700
TZNAME:MST
DTSTART:20251102T080000
END:STANDARD
BEGIN:DAYLIGHT
TZOFFSETFROM:-0700
TZOFFSETTO:-0600
TZNAME:MDT
DTSTART:20260308T090000
END:DAYLIGHT
BEGIN:STANDARD
TZOFFSETFROM:-0600
TZOFFSETTO:-0700
TZNAME:MST
DTSTART:20261101T080000
END:STANDARD
BEGIN:DAYLIGHT
TZOFFSETFROM:-0700
TZOFFSETTO:-0600
TZNAME:MDT
DTSTART:20270314T090000
END:DAYLIGHT
BEGIN:STANDARD
TZOFFSETFROM:-0600
TZOFFSETTO:-0700
TZNAME:MST
DTSTART:20271107T080000
END:STANDARD
END:VTIMEZONE
BEGIN:VEVENT
DTSTART;TZID=America/Denver:20260408T173000
DTEND;TZID=America/Denver:20260408T190000
DTSTAMP:20260419T113156
CREATED:20251216T002514Z
LAST-MODIFIED:20260316T153039Z
UID:10000053-1775669400-1775674800@wictrm.org
SUMMARY:Networking Untapped
DESCRIPTION:Networking Untapped: An Exclusive WICT Networking Experience\nJoin fellow members of The WICT Network: Rocky Mountain for Networking Untapped\, our *NEW* format and part of The WICT Network’s monthly networking series. This members-only event is designed to spark meaningful conversations and lasting professional connections. The interactive\, carousel-style format is structured to maximize connections while still feeling relaxed and engaging. \n\nUpcoming Events\nApril\n📅 Date: April 8\, 2026\n🕠 Time: 5:30–7:00 pm MT \n📍 Location: Lady Justice Brewing at 3242 S Acoma St\, Englewood\, CO\nBring a non-WICT member friend to our April event to introduce them to our Network and explore the benefits of our community! Non-members pay $10 to participate. Please RSVP as space is limited. \nWhat to Expect at Our Events:\n\nCurated\, fast-paced networking with The WICT Network peers\nLight appetizers included\nDrinks available for purchase (not included)\n\nRSVP is required\, as space is limited. If your plans change after you register\, please let us know as soon as possible so we can offer your spot to another member. Contact wict.rm.membership@gmail.com to remove your RSVP from the list or for any questions you might have. \nKeep an eye out for next month’s announcements!\n 
URL:https://wictrm.org/event/networking_untapped/
LOCATION:Lady Justice Brewing\, 3242 S Acoma St\, Englewood\, 80113\, United States
CATEGORIES:Membership
ATTACH;FMTTYPE=image/png:https://wictrm.org/wp-content/uploads/2025/12/Webpage-Ribbon-2.png
END:VEVENT
END:VCALENDAR