BEGIN:VCALENDAR
VERSION:2.0
PRODID:-//The WICT Network: Rocky Mountain - ECPv6.15.20//NONSGML v1.0//EN
CALSCALE:GREGORIAN
METHOD:PUBLISH
X-ORIGINAL-URL:https://wictrm.org
X-WR-CALDESC:Events for The WICT Network: Rocky Mountain
REFRESH-INTERVAL;VALUE=DURATION:PT1H
X-Robots-Tag:noindex
X-PUBLISHED-TTL:PT1H
BEGIN:VTIMEZONE
TZID:America/Denver
BEGIN:DAYLIGHT
TZOFFSETFROM:-0700
TZOFFSETTO:-0600
TZNAME:MDT
DTSTART:20250309T090000
END:DAYLIGHT
BEGIN:STANDARD
TZOFFSETFROM:-0600
TZOFFSETTO:-0700
TZNAME:MST
DTSTART:20251102T080000
END:STANDARD
BEGIN:DAYLIGHT
TZOFFSETFROM:-0700
TZOFFSETTO:-0600
TZNAME:MDT
DTSTART:20260308T090000
END:DAYLIGHT
BEGIN:STANDARD
TZOFFSETFROM:-0600
TZOFFSETTO:-0700
TZNAME:MST
DTSTART:20261101T080000
END:STANDARD
BEGIN:DAYLIGHT
TZOFFSETFROM:-0700
TZOFFSETTO:-0600
TZNAME:MDT
DTSTART:20270314T090000
END:DAYLIGHT
BEGIN:STANDARD
TZOFFSETFROM:-0600
TZOFFSETTO:-0700
TZNAME:MST
DTSTART:20271107T080000
END:STANDARD
END:VTIMEZONE
BEGIN:VEVENT
DTSTART;TZID=America/Denver:20260314T093000
DTEND;TZID=America/Denver:20260314T153000
DTSTAMP:20260423T081908
CREATED:20260304T000536Z
LAST-MODIFIED:20260305T232944Z
UID:10000055-1773480600-1773502200@wictrm.org
SUMMARY:Dress for Success
DESCRIPTION:Please join The WICT Network: Rocky Mountain volunteer day with Dress for Success!\nJoin us and Dress for Success Denver to assist with the collecting\, sorting and organizing of donated Dress for Success items on March 14\, 2026 from 9:30 a.m. – 12:30 p.m. or 12:30 p.m. – 3:30 p.m. Volunteer capacity is 20 individuals. \nBreakfast and lunch will be provided by the Dress for Success. \nHave questions? Please contact: wict.rm.cci@gmail.com \nAbout Dress for Success\nDress for Success is the only global nonprofit employment resource for women and was founded on the principles of gender\, racial and socio-economic equality for all. \nOur mission fights against inequality and systematic bias each day. Further\, we are driven by the belief that when you help empower women\, you help empower their families and communities for the betterment of the world. \nWe have been a trusted leader at the forefront of the women’s empowerment movement for nearly 25 years. Throughout that time\, we have helped 1.2M+ women achieve financial independence through job support\, financial education\, and leadership development. \nWe are dedicated to serving women of all nationalities\, ages and backgrounds. The women we serve are: \n\nBIPOC identifying (70%)\nMulti-generational\, ranging from Gen Z to women over 50\nLiving below the poverty line (nearly 50%)
URL:https://wictrm.org/event/dress-for-success/
LOCATION:Dress for Success Denver\, 2594 South Colorado Blvd.\, Unit A\, Denver\, CO\, 80222\, United States
CATEGORIES:DEI
END:VEVENT
END:VCALENDAR